BEGIN:VCALENDAR
VERSION:2.0
PRODID:-//Lee Manor Society - ECPv6.15.20//NONSGML v1.0//EN
CALSCALE:GREGORIAN
METHOD:PUBLISH
X-WR-CALNAME:Lee Manor Society
X-ORIGINAL-URL:https://leemanorsociety.org
X-WR-CALDESC:Events for Lee Manor Society
REFRESH-INTERVAL;VALUE=DURATION:PT1H
X-Robots-Tag:noindex
X-PUBLISHED-TTL:PT1H
BEGIN:VTIMEZONE
TZID:UTC
BEGIN:STANDARD
TZOFFSETFROM:+0000
TZOFFSETTO:+0000
TZNAME:UTC
DTSTART:20230101T000000
END:STANDARD
END:VTIMEZONE
BEGIN:VEVENT
DTSTART;TZID=UTC:20240911T193000
DTEND;TZID=UTC:20240911T213000
DTSTAMP:20260425T185257
CREATED:20240814T085256Z
LAST-MODIFIED:20240814T085256Z
UID:726-1726083000-1726090200@leemanorsociety.org
SUMMARY:Lee Manor Society Monthly Meeting
DESCRIPTION:
URL:https://leemanorsociety.org/event/lee-manor-society-monthly-meeting-2/
LOCATION:Community Centre\, Leegate\, Community Centre\, 3 Leegate\, London\, SE12 8SS\, United Kingdom
END:VEVENT
END:VCALENDAR