BEGIN:VCALENDAR
VERSION:2.0
PRODID:-//Lee Manor Society - ECPv6.15.20//NONSGML v1.0//EN
CALSCALE:GREGORIAN
METHOD:PUBLISH
X-WR-CALNAME:Lee Manor Society
X-ORIGINAL-URL:https://leemanorsociety.org
X-WR-CALDESC:Events for Lee Manor Society
REFRESH-INTERVAL;VALUE=DURATION:PT1H
X-Robots-Tag:noindex
X-PUBLISHED-TTL:PT1H
BEGIN:VTIMEZONE
TZID:UTC
BEGIN:STANDARD
TZOFFSETFROM:+0000
TZOFFSETTO:+0000
TZNAME:UTC
DTSTART:20230101T000000
END:STANDARD
END:VTIMEZONE
BEGIN:VEVENT
DTSTART;TZID=UTC:20241002T190000
DTEND;TZID=UTC:20241002T210000
DTSTAMP:20260425T172021
CREATED:20240930T080419Z
LAST-MODIFIED:20240930T080419Z
UID:1170-1727895600-1727902800@leemanorsociety.org
SUMMARY:Lee Green Police Panel Meeting
DESCRIPTION:A message from Lee Green police: \nWe would like to invite all residents who are available on Wednesday the 2nd of October 2024 to the Lee Green Ward Panel Meeting. The meeting will be taking place at Manor House Library at 7PM. This will serve to us as your local policing force as a great opportunity to hearing any of your opinions and any potential worries that we can address to the best of our ability and together come up with a plan going forwards for the year to solve them. \nPlease feel free to extend/forward this invite to your fellow neighbours (what’s-up/ messenger groups) who wish to participate. \nWe look forward to seeing you all on the 2nd of October at 7pm at Manor House Library.
URL:https://leemanorsociety.org/event/lee-green-police-panel-meeting/
LOCATION:Manor House Library\, 34 Old Rd\, Lee\, London\, SE13 5SY\, United Kingdom
END:VEVENT
END:VCALENDAR