BEGIN:VCALENDAR
VERSION:2.0
PRODID:-//Lee Manor Society - ECPv6.15.20//NONSGML v1.0//EN
CALSCALE:GREGORIAN
METHOD:PUBLISH
X-ORIGINAL-URL:https://leemanorsociety.org
X-WR-CALDESC:Events for Lee Manor Society
REFRESH-INTERVAL;VALUE=DURATION:PT1H
X-Robots-Tag:noindex
X-PUBLISHED-TTL:PT1H
BEGIN:VTIMEZONE
TZID:UTC
BEGIN:STANDARD
TZOFFSETFROM:+0000
TZOFFSETTO:+0000
TZNAME:UTC
DTSTART:20230101T000000
END:STANDARD
END:VTIMEZONE
BEGIN:VEVENT
DTSTART;TZID=UTC:20241005T110000
DTEND;TZID=UTC:20241005T123000
DTSTAMP:20260425T172046
CREATED:20240814T105622Z
LAST-MODIFIED:20240814T105622Z
UID:728-1728126000-1728131400@leemanorsociety.org
SUMMARY:Lee Manor Society Autumn Tree Walk
DESCRIPTION:The Lee Manor Society Autumn Tree Walk will be on Saturday October 5\, 2024. The walk will start at 11am at the Lee Green crossroads by the history panel. We will be looking at autumn colour in the wide variety of species in the Burnt Ash Road tree avenue\, including our recent plantings\, and other local streets. Time permitting\, we will walk into Manor House Gardens with its wealth of historic trees\, many dating back 250 years to the original planting when today’s public park was the private garden of the Lucas and Baring families. No advance registration needed – all welcome. Just turn up!
URL:https://leemanorsociety.org/event/lee-manor-society-autumn-tree-walk/
LOCATION:Lee Green crossroads\, London\, SE13\, United Kingdom
END:VEVENT
END:VCALENDAR