BEGIN:VCALENDAR
VERSION:2.0
PRODID:-//Lee Manor Society - ECPv6.15.20//NONSGML v1.0//EN
CALSCALE:GREGORIAN
METHOD:PUBLISH
X-ORIGINAL-URL:https://leemanorsociety.org
X-WR-CALDESC:Events for Lee Manor Society
REFRESH-INTERVAL;VALUE=DURATION:PT1H
X-Robots-Tag:noindex
X-PUBLISHED-TTL:PT1H
BEGIN:VTIMEZONE
TZID:UTC
BEGIN:STANDARD
TZOFFSETFROM:+0000
TZOFFSETTO:+0000
TZNAME:UTC
DTSTART:20230101T000000
END:STANDARD
END:VTIMEZONE
BEGIN:VEVENT
DTSTART;TZID=UTC:20241013T120000
DTEND;TZID=UTC:20241013T150000
DTSTAMP:20260425T171556
CREATED:20240930T084637Z
LAST-MODIFIED:20240930T084637Z
UID:1180-1728820800-1728831600@leemanorsociety.org
SUMMARY:Blackheath Kite Day
DESCRIPTION:The Blackheath Society is organising this totally FREE event again on Sunday 13th October 2024.  We feel strongly that the Heath is for everyone to enjoy and would like to encourage families and local communities to join in the fun. \n\nWe would be very grateful if you would let your members and friends know through your newsletter or emails and so I am attaching a jpg and pdf of the leaflet\, a couple of photos and also the text below: \n\n\nBlackheath Kite Day \nSunday 13th October 2024 \n12:00 – 3:00pm \nnear All Saints’ Church on the Heath \nKite Day on Blackheath is planned again for this year\, there will be kites for sale or bring your own along. The Kent Kite Flyers will fly their spectacular kites in the arena and will be on hand to give help with flying your own. Free badges for all kite lovers! \n\nThe children of Grinling Gibbons and Lucas Vale Primary Schools will be coming with their steel pan band at about 2pm. \n\nPlease let me know if you have any queries. \n\nBest wishes \n\nSacha Bright \nSecretary
URL:https://leemanorsociety.org/event/blackheath-kite-day/
LOCATION:All Saints’ Church on the Heath
END:VEVENT
END:VCALENDAR