BEGIN:VCALENDAR
VERSION:2.0
PRODID:-//Lee Manor Society - ECPv6.15.20//NONSGML v1.0//EN
CALSCALE:GREGORIAN
METHOD:PUBLISH
X-WR-CALNAME:Lee Manor Society
X-ORIGINAL-URL:https://leemanorsociety.org
X-WR-CALDESC:Events for Lee Manor Society
REFRESH-INTERVAL;VALUE=DURATION:PT1H
X-Robots-Tag:noindex
X-PUBLISHED-TTL:PT1H
BEGIN:VTIMEZONE
TZID:UTC
BEGIN:STANDARD
TZOFFSETFROM:+0000
TZOFFSETTO:+0000
TZNAME:UTC
DTSTART:20230101T000000
END:STANDARD
END:VTIMEZONE
BEGIN:VEVENT
DTSTART;TZID=UTC:20241113T193000
DTEND;TZID=UTC:20241113T210000
DTSTAMP:20260425T153602
CREATED:20241028T174317Z
LAST-MODIFIED:20241103T121418Z
UID:1298-1731526200-1731531600@leemanorsociety.org
SUMMARY:November monthly meeting
DESCRIPTION:Minutes of the previous meeting can be found here: https://leemanorsociety.org/wp-content/uploads/2024/10/LMSoc-11th-Sep-24.docx \nAgenda for LMS meeting 13 Nov 2024\, 7.30pm – 9.45pm \n1. Apologies &amp; Minutes of last meeting\n2. Financial Report\n3. Speaker from SELCE (South East London Community Energy) Flavia Bertram\,\non helping people achieve ‘Future Fit Homes’\n4. Review of LMS AGM\, Autumn Tree Walk &amp; relocation of ‘Mary’s Garden’.\n5. Ice House – Insurance and school visits.\n6. Planning applications + decisions\n7. Local Assembly Meeting – Leegate redevelopment.\n8. Tree Planting with Southbrook Rd residents;\n9. Tree in memory of Ralph White.\n10. Date and venue for future meetings.\n11. AOB\nMeeting closes: 9.15pm followed by light refreshments.
URL:https://leemanorsociety.org/event/november-monthly-meeting/
LOCATION:Church of the Good Shepherd\, Handen Road\, London\, SE12 8NR\, Handen Road\, Lee\, London\, SE12 8NR
END:VEVENT
END:VCALENDAR