BEGIN:VCALENDAR
VERSION:2.0
PRODID:-//Lee Manor Society - ECPv6.15.20//NONSGML v1.0//EN
CALSCALE:GREGORIAN
METHOD:PUBLISH
X-ORIGINAL-URL:https://leemanorsociety.org
X-WR-CALDESC:Events for Lee Manor Society
REFRESH-INTERVAL;VALUE=DURATION:PT1H
X-Robots-Tag:noindex
X-PUBLISHED-TTL:PT1H
BEGIN:VTIMEZONE
TZID:UTC
BEGIN:STANDARD
TZOFFSETFROM:+0000
TZOFFSETTO:+0000
TZNAME:UTC
DTSTART:20240101T000000
END:STANDARD
END:VTIMEZONE
BEGIN:VEVENT
DTSTART;TZID=UTC:20250108T193000
DTEND;TZID=UTC:20250108T220000
DTSTAMP:20260425T121618
CREATED:20241201T122600Z
LAST-MODIFIED:20250104T173204Z
UID:1362-1736364600-1736373600@leemanorsociety.org
SUMMARY:New Year Social Event
DESCRIPTION:Instead of the usual monthly meeting the Lee Manor Society is holding a social evening at the Old Tiger’s Head.  Everyone is welcome. First glass of wine is free and there will be a raffle (please feel free to donate a prize for that!)
URL:https://leemanorsociety.org/event/new-year-social-event/
LOCATION:Old Tiger’s Head\, 351 Lee High Rd\,\, London\, SE12 8RU
END:VEVENT
END:VCALENDAR