BEGIN:VCALENDAR
VERSION:2.0
PRODID:-//Lee Manor Society - ECPv6.15.20//NONSGML v1.0//EN
CALSCALE:GREGORIAN
METHOD:PUBLISH
X-ORIGINAL-URL:https://leemanorsociety.org
X-WR-CALDESC:Events for Lee Manor Society
REFRESH-INTERVAL;VALUE=DURATION:PT1H
X-Robots-Tag:noindex
X-PUBLISHED-TTL:PT1H
BEGIN:VTIMEZONE
TZID:Europe/London
BEGIN:DAYLIGHT
TZOFFSETFROM:+0000
TZOFFSETTO:+0100
TZNAME:BST
DTSTART:20250330T010000
END:DAYLIGHT
BEGIN:STANDARD
TZOFFSETFROM:+0100
TZOFFSETTO:+0000
TZNAME:GMT
DTSTART:20251026T010000
END:STANDARD
BEGIN:DAYLIGHT
TZOFFSETFROM:+0000
TZOFFSETTO:+0100
TZNAME:BST
DTSTART:20260329T010000
END:DAYLIGHT
BEGIN:STANDARD
TZOFFSETFROM:+0100
TZOFFSETTO:+0000
TZNAME:GMT
DTSTART:20261025T010000
END:STANDARD
BEGIN:DAYLIGHT
TZOFFSETFROM:+0000
TZOFFSETTO:+0100
TZNAME:BST
DTSTART:20270328T010000
END:DAYLIGHT
BEGIN:STANDARD
TZOFFSETFROM:+0100
TZOFFSETTO:+0000
TZNAME:GMT
DTSTART:20271031T010000
END:STANDARD
END:VTIMEZONE
BEGIN:VEVENT
DTSTART;TZID=Europe/London:20260429T193000
DTEND;TZID=Europe/London:20260429T213000
DTSTAMP:20260423T100817
CREATED:20260421T114344Z
LAST-MODIFIED:20260421T114344Z
UID:3728-1777491000-1777498200@leemanorsociety.org
SUMMARY:April meeting of the Lee Manor Society
DESCRIPTION:The next meeting of the Lee Manor Society will be on April 29th\, starting at 7 30pm.  It will be at the Church of the Good Shepherd in Handen Road. \nWe are asking everyone coming to bring a small prize for the Plant Mart tombola (wine\, chocolates\, toiletries etc). \nThe agenda for the meeting will be posted here nearer the time. \nThe minutes of the last meeting can be found here. \n 
URL:https://leemanorsociety.org/event/april-meeting-of-the-lee-manor-society/
LOCATION:Church of the Good Shepherd\, Handen Road\, London\, SE12 8NR\, Handen Road\, Lee\, London\, SE12 8NR
END:VEVENT
BEGIN:VEVENT
DTSTART;TZID=Europe/London:20260509T140000
DTEND;TZID=Europe/London:20260509T160000
DTSTAMP:20260423T100817
CREATED:20260116T093741Z
LAST-MODIFIED:20260313T085236Z
UID:3363-1778335200-1778342400@leemanorsociety.org
SUMMARY:Lee Manor Society Plant Mart and Garden Party.  Scroll down for details.  If you can help please complete this form.
DESCRIPTION:← Back Thank you for your response. ✨\n\n\n					\n						\n							\n							\n						\n						\n						\n						\n						\n							\n								\n									\n										\n										\n									\n									\n										\n										\n									\n								\n							\n						\n						\n							\n								\n									\n									\n										\n									\n									\n									\n								\n							\n						\n					\n				\n\n\n\nName(required)\n\n \n			\n				\n					\n						\n						\n						\n					\n				\n				\n			 \n	\n\n\nEmail(required)\n\n \n			\n				\n					\n						\n						\n						\n					\n				\n				\n			 \n	\n\n\nYes I can help with the Plant Mart and Garden Party on May 9th. Please add details of your availability.\n\n \n			\n				\n					\n						\n						\n						\n					\n				\n				\n			\n	\n	\n\n				\n					\n				\n						Submit		\n		\n		\n	 \nΔ
URL:https://leemanorsociety.org/event/lee-manor-society-plant-mart-and-garden-party/
LOCATION:2-6 Micheldever Road\, London SE12 8LX\, 2-6 Micheldever Road\, London\, Greater London\, SE12 8LX\, United Kingdom
END:VEVENT
BEGIN:VEVENT
DTSTART;TZID=Europe/London:20260520T080000
DTEND;TZID=Europe/London:20260520T190000
DTSTAMP:20260423T100817
CREATED:20260421T135649Z
LAST-MODIFIED:20260421T135649Z
UID:3736-1779264000-1779303600@leemanorsociety.org
SUMMARY:The new Vicar of the Church of the Good Shepherd is licensed and inducted
DESCRIPTION:  \nThis letter comes from the Church warden James Murdoch \n\n\n\n\n\n\n\nDear friends\, neighbours\, and members of our wider community\, \nIt is with deep joy and heartfelt thanksgiving that we invite you to join us for a very special moment in the life of our parish. \nOn Wednesday 20th May 2026 at 7pm\, The Reverend Christopher Henriette will be licensed and inducted as Vicar of The Church of the Good Shepherd with St Peter\, Lee\, by The Rt Revd Alastair Cutting\, Bishop of Woolwich. The service will take place at The Church of the Good Shepherd\, Handen Road\, SE12 8NR\, and will be followed by refreshments for all. \nThis service marks the beginning of a new chapter in our shared journey of faith. Many of you will know Chris from his ministry among us as Assistant Curate\, since his ordination in 2023. Chris has served this parish with warmth\, imagination\, and a deep love for people. We now celebrate his appointment as our new Vicar\, as announced by the Diocese of Southwark last year. \nTogether\, we look forward in hope and expectation—trusting that God will continue to shape us into a community where all are welcomed\, all are valued\, and all are invited to grow in faith\, justice\, and joy. \nTo help us plan catering for the reception\, please RSVP to office@goodpeter.org.uk. \nDuring the service\, there will be a formal welcome from members of the community on behalf of organisations/community groups. If you would l like to offer a welcome on behalf of your group\, please do let us know. \nWe warmly welcome all clergy\, deacons\, and Licensed Lay Ministers who are joining us and wish to robe that the vestments for the service are as follows: \n\nAlb and stole for clergy\nSeasonal stole colour: White or gold (Eastertide)\nDeacons are invited to vest in alb and diagonal stole in the seasonal colour\nLicensed Lay Ministers are invited to robe in alb or cassock and surplice\, with blue scarf\n\nIf you are attending but not robing\, please join the congregation in the main body of the church. \nClergy and ministers who are robing are asked to arrive in good time and gather in the Parish room\, where sidespeople will assist with directions. \nWith every blessing\, The Churchwardens and PCC The Church of the Good Shepherd with St Peter\, Lee
URL:https://leemanorsociety.org/event/the-new-vicar-of-the-church-of-the-good-shepherd-is-licensed-and-inducted/
LOCATION:Church of the Good Shepherd\, Handen Road\, London\, SE12 8NR\, Handen Road\, Lee\, London\, SE12 8NR
END:VEVENT
END:VCALENDAR