BEGIN:VCALENDAR
VERSION:2.0
PRODID:-//Lee Manor Society - ECPv6.15.20//NONSGML v1.0//EN
CALSCALE:GREGORIAN
METHOD:PUBLISH
X-WR-CALNAME:Lee Manor Society
X-ORIGINAL-URL:https://leemanorsociety.org
X-WR-CALDESC:Events for Lee Manor Society
REFRESH-INTERVAL;VALUE=DURATION:PT1H
X-Robots-Tag:noindex
X-PUBLISHED-TTL:PT1H
BEGIN:VTIMEZONE
TZID:UTC
BEGIN:STANDARD
TZOFFSETFROM:+0000
TZOFFSETTO:+0000
TZNAME:UTC
DTSTART:20230101T000000
END:STANDARD
END:VTIMEZONE
BEGIN:VEVENT
DTSTART;TZID=UTC:20240713T190000
DTEND;TZID=UTC:20240713T210000
DTSTAMP:20260425T202731
CREATED:20240710T195026Z
LAST-MODIFIED:20240710T195042Z
UID:343-1720897200-1720904400@leemanorsociety.org
SUMMARY:Quiz Night at The Church of the Good Shepherd
DESCRIPTION:In aid of Christian Aid. Donations welcome. Bring your own food/drink.
URL:https://leemanorsociety.org/event/quiz-night-at-good-shepherd/
LOCATION:Church of the Good Shepherd\, Handen Road\, London\, SE12 8NR\, Handen Road\, Lee\, London\, SE12 8NR
END:VEVENT
BEGIN:VEVENT
DTSTART;TZID=UTC:20240717T193000
DTEND;TZID=UTC:20240717T213000
DTSTAMP:20260425T202731
CREATED:20240710T195907Z
LAST-MODIFIED:20240710T200459Z
UID:347-1721244600-1721251800@leemanorsociety.org
SUMMARY:Lee Manor Society Monthly Meeting
DESCRIPTION:The next meeting of the Lee Manor Society will be held at the Leegat Community Centre on Wednesday July 17th at 1930.  Everyone is welcome. \n\nBelow is the draft agenda: \n\n\n\nTree planting scheme – proposal to match fund money raised by residents.\nMary’s Garden – proposal to move its location.\nReview of Manor House Gardens Festival involvement.\nPlanning update\nFinances\nIce House\nTree Walks\nAGM planning and speaker.\nWebsite update\nAOB
URL:https://leemanorsociety.org/event/lee-manor-society-monthly-meeting/
LOCATION:Community Centre\, Leegate\, Community Centre\, 3 Leegate\, London\, SE12 8SS\, United Kingdom
END:VEVENT
END:VCALENDAR