BEGIN:VCALENDAR
VERSION:2.0
PRODID:-//Lee Manor Society - ECPv6.15.20//NONSGML v1.0//EN
CALSCALE:GREGORIAN
METHOD:PUBLISH
X-WR-CALNAME:Lee Manor Society
X-ORIGINAL-URL:https://leemanorsociety.org
X-WR-CALDESC:Events for Lee Manor Society
REFRESH-INTERVAL;VALUE=DURATION:PT1H
X-Robots-Tag:noindex
X-PUBLISHED-TTL:PT1H
BEGIN:VTIMEZONE
TZID:UTC
BEGIN:STANDARD
TZOFFSETFROM:+0000
TZOFFSETTO:+0000
TZNAME:UTC
DTSTART:20240101T000000
END:STANDARD
END:VTIMEZONE
BEGIN:VEVENT
DTSTART;TZID=UTC:20250506T193000
DTEND;TZID=UTC:20250506T213000
DTSTAMP:20260425T034757
CREATED:20250423T211312Z
LAST-MODIFIED:20250428T172842Z
UID:1865-1746559800-1746567000@leemanorsociety.org
SUMMARY:Lee Manor Society May Meeting
DESCRIPTION:Lee Manor Society Meeting \nMay 6 2025 \nSt Peter’s Church \n  \nAgenda \n  \n\nApologies\nMinutes of last meeting can be found here https://leemanorsociety.org/bskpdf/minutes-of-lee-manor-society-meeting-13th-march-2025/\nFinance SB\nPlant Mart update\nLeegate\nPlanning Update MH\nSouthbrook Trees/Ralph’s tree CB\nSpring Tree Walk CB\nSustainable Streets\nIce House\nMHG Festival\nHeritage Trail\nAGM planning\nAOB
URL:https://leemanorsociety.org/event/lee-manor-society-may-meeting/
LOCATION:St Peter’s Church\, Eltham Road\, SE12 8HQ
END:VEVENT
BEGIN:VEVENT
DTSTART;TZID=UTC:20250517T140000
DTEND;TZID=UTC:20250517T160000
DTSTAMP:20260425T034757
CREATED:20250328T233131Z
LAST-MODIFIED:20250329T085814Z
UID:1770-1747490400-1747497600@leemanorsociety.org
SUMMARY:Lee Manor Society Plant Mart
DESCRIPTION:Buy more plants – plant more trees!!\n\nOur plant mart and garden party on the 17th May 2025 is our big fundraiser – and we use the money to plant trees in Lee.\n\nPlease come and support us: there will be delicious cakes\, great value plants\, books and CDs\, cream teas and\, new for this year\, are 2 botanical watercolour workshops at 2.30 and 3pm run by Ting (@designby ting)\, at which adults and children can produce lovely pictures and cards.\n\nWe have some fantastic prizes for the tombola and raffle\, for which Janet Daby our MP is donating a bottle of House of Commons red wine and the Lord Northbrook has given us a £100 voucher (other prizes include a garden tool\, vouchers for a pottery painting workshop\, Hair Deco\, You Don’t Bring Me Flowers and Sapore Vero).\n\nPlease start sowing seeds\, plan to bake\, donate tombola prizes\, make jam… and let us know if you can help us on the day: 17th of May 2-4 p.m.\, 2-6 Micheldever Rd.\n\nContact us at: leemanorsociety@gmail.com
URL:https://leemanorsociety.org/event/lee-manor-society-plant-mart/
LOCATION:2-6 Micheldever Road\, London SE12 8LX\, 2-6 Micheldever Road\, London\, Greater London\, SE12 8LX\, United Kingdom
END:VEVENT
BEGIN:VEVENT
DTSTART;TZID=UTC:20250520T153000
DTEND;TZID=UTC:20250520T200000
DTSTAMP:20260425T034757
CREATED:20250511T145406Z
LAST-MODIFIED:20250511T145406Z
UID:1887-1747755000-1747771200@leemanorsociety.org
SUMMARY:Leegate - London Square exhibition
DESCRIPTION:Lee residents will have the opportunity to view and comment on London Square’s plans at an exhibition to be held in St Peter’s Church on the corner of Eltham and Weigall Roads on Tuesday\, May 20 from 3.30pm-8pm. \nLeegate: Now it’s going to be 80 extra homes
URL:https://leemanorsociety.org/event/leegate-london-square-exhibition/
END:VEVENT
BEGIN:VEVENT
DTSTART;TZID=UTC:20250531T110000
DTEND;TZID=UTC:20250531T130000
DTSTAMP:20260425T034757
CREATED:20250524T155433Z
LAST-MODIFIED:20250524T155433Z
UID:2034-1748689200-1748696400@leemanorsociety.org
SUMMARY:Spring Tree Walk
DESCRIPTION:The Lee Manor Society’s 2025 Spring Tree Walk will take place at 11am on Saturday May 31. The walk will start from Lochaber Hall at the junction of Manor Lane and Lochaber Road. It will take in nearby streets before moving to Manor House Gardens. Topics to be covered include the trees’ origins\, the uses to which their wood\, bark and fruits are put\, how they got their names and the religious myths often attached to them. The walk will be led by Charles Batchelor and David Ford.\nThe walk is free but donations are welcomed.
URL:https://leemanorsociety.org/event/spring-tree-walk/
LOCATION:Lochaber Hall\, Lochaber Hall\, Community Centre\, Manor Ln Terrace\,\, London\, SE13 5QL\, United Kingdom
END:VEVENT
END:VCALENDAR